BEGIN:VCALENDAR
VERSION:2.0
PRODID:-//Woodford Dolmen Hotel Carlow - ECPv6.15.20//NONSGML v1.0//EN
CALSCALE:GREGORIAN
METHOD:PUBLISH
X-ORIGINAL-URL:https://www.woodforddolmenhotel.ie
X-WR-CALDESC:Events for Woodford Dolmen Hotel Carlow
REFRESH-INTERVAL;VALUE=DURATION:PT1H
X-Robots-Tag:noindex
X-PUBLISHED-TTL:PT1H
BEGIN:VTIMEZONE
TZID:UTC
BEGIN:STANDARD
TZOFFSETFROM:+0000
TZOFFSETTO:+0000
TZNAME:UTC
DTSTART:20250101T000000
END:STANDARD
END:VTIMEZONE
BEGIN:VEVENT
DTSTART;TZID=UTC:20261127T200000
DTEND;TZID=UTC:20261127T230000
DTSTAMP:20260419T144247
CREATED:20260410T112857Z
LAST-MODIFIED:20260410T113031Z
UID:10547-1795809600-1795820400@www.woodforddolmenhotel.ie
SUMMARY:The Highstool Prophets
DESCRIPTION:Experience one of Ireland’s most exciting live acts as The Highstool Prophets take to the stage for a special concert in Carlow on Friday\, 27th November from 8:00–11:00 PM. \nWidely regarded as one of the country’s most in-demand folk bands\, The Highstool Prophets have captivated audiences with their distinctive sound and fresh\, modern take on traditional Irish music. With sold-out shows\, national television appearances\, and a catalogue that has garnered millions of streams worldwide\, this is a performance not to be missed. \nTickets are €30 plus booking fee\, available now on Universe.com and soon to be available at the hotel reception. \nThis is a seated concert with unreserved seating. \nPlease note: tickets are non-refundable and non-transferable.
URL:https://www.woodforddolmenhotel.ie/event-calendar/the-highstool-prophets
ATTACH;FMTTYPE=image/jpeg:https://www.woodforddolmenhotel.ie/wp-content/uploads/2026/04/The-Highstool-Prophets.jpg
END:VEVENT
END:VCALENDAR