BEGIN:VCALENDAR
VERSION:2.0
PRODID:-//Woodford Dolmen Hotel Carlow - ECPv6.15.20//NONSGML v1.0//EN
CALSCALE:GREGORIAN
METHOD:PUBLISH
X-WR-CALNAME:Woodford Dolmen Hotel Carlow
X-ORIGINAL-URL:https://www.woodforddolmenhotel.ie
X-WR-CALDESC:Events for Woodford Dolmen Hotel Carlow
REFRESH-INTERVAL;VALUE=DURATION:PT1H
X-Robots-Tag:noindex
X-PUBLISHED-TTL:PT1H
BEGIN:VTIMEZONE
TZID:UTC
BEGIN:STANDARD
TZOFFSETFROM:+0000
TZOFFSETTO:+0000
TZNAME:UTC
DTSTART:20250101T000000
END:STANDARD
END:VTIMEZONE
BEGIN:VEVENT
DTSTART;TZID=UTC:20260419T210000
DTEND;TZID=UTC:20260419T230000
DTSTAMP:20260419T124559
CREATED:20260313T122735Z
LAST-MODIFIED:20260313T122735Z
UID:10464-1776632400-1776639600@www.woodforddolmenhotel.ie
SUMMARY:Live Music in Bar from Díoltas
DESCRIPTION:Join us for Live Music in the Plum Tree Bar with Díoltas on Sunday\, 19th April from 9 pm \nJoin us for great music\, amazing local talent\, and unforgettable nights. Grab a drink\, bring your friends\, and don’t miss out on our live music in the Plum Tree Bar.
URL:https://www.woodforddolmenhotel.ie/event-calendar/live-music-in-bar-from-dioltas
ATTACH;FMTTYPE=image/jpeg:https://www.woodforddolmenhotel.ie/wp-content/uploads/2026/03/19-APRIL.jpg
END:VEVENT
END:VCALENDAR