BEGIN:VCALENDAR
VERSION:2.0
PRODID:-//Woodford Dolmen Hotel Carlow - ECPv6.15.20//NONSGML v1.0//EN
CALSCALE:GREGORIAN
METHOD:PUBLISH
X-WR-CALNAME:Woodford Dolmen Hotel Carlow
X-ORIGINAL-URL:https://www.woodforddolmenhotel.ie
X-WR-CALDESC:Events for Woodford Dolmen Hotel Carlow
REFRESH-INTERVAL;VALUE=DURATION:PT1H
X-Robots-Tag:noindex
X-PUBLISHED-TTL:PT1H
BEGIN:VTIMEZONE
TZID:UTC
BEGIN:STANDARD
TZOFFSETFROM:+0000
TZOFFSETTO:+0000
TZNAME:UTC
DTSTART:20250101T000000
END:STANDARD
END:VTIMEZONE
BEGIN:VEVENT
DTSTART;TZID=UTC:20260416T210000
DTEND;TZID=UTC:20260416T210000
DTSTAMP:20260420T110210
CREATED:20260218T103138Z
LAST-MODIFIED:20260218T103138Z
UID:9818-1776373200-1776373200@www.woodforddolmenhotel.ie
SUMMARY:Social Dancing with Checkers
DESCRIPTION:Enjoy Social Dancing on Thursday evenings at 9pm. Pick your dancing shoes to enjoy dancing with Checkers on 16th of April. For more information\, please contact the event organiser\, Valerie Langrell at 087 2703 035
URL:https://www.woodforddolmenhotel.ie/event-calendar/social-dancing-with-checkers-2
ATTACH;FMTTYPE=image/jpeg:https://www.woodforddolmenhotel.ie/wp-content/uploads/2026/02/Social-Dancing-on-16th-April.jpg
END:VEVENT
END:VCALENDAR