BEGIN:VCALENDAR
VERSION:2.0
PRODID:-//Woodford Dolmen Hotel Carlow - ECPv6.15.20//NONSGML v1.0//EN
CALSCALE:GREGORIAN
METHOD:PUBLISH
X-ORIGINAL-URL:https://www.woodforddolmenhotel.ie
X-WR-CALDESC:Events for Woodford Dolmen Hotel Carlow
REFRESH-INTERVAL;VALUE=DURATION:PT1H
X-Robots-Tag:noindex
X-PUBLISHED-TTL:PT1H
BEGIN:VTIMEZONE
TZID:UTC
BEGIN:STANDARD
TZOFFSETFROM:+0000
TZOFFSETTO:+0000
TZNAME:UTC
DTSTART:20240101T000000
END:STANDARD
END:VTIMEZONE
BEGIN:VEVENT
DTSTART;TZID=UTC:20250811T090000
DTEND;TZID=UTC:20250815T130000
DTSTAMP:20260421T090109
CREATED:20250320T163453Z
LAST-MODIFIED:20250728T082046Z
UID:7890-1754902800-1755262800@www.woodforddolmenhotel.ie
SUMMARY:Science Summer Camp - Junior Einstein Scientist
DESCRIPTION:Enjoy a week long of Science Summer Camp for kids from 11th to 15th August in Carlow! \n\nDates 11th-15th August 2025\nTimes: 9AM – 1PM\nIdeal for children 6-12\nPrice: 180€\n\nEverything at Junior Einsteins Science Club Kids Camps is driven by a passion for bringing STEM to young children in a fun-filled\, high-energy way. Wearing lab coats and goggles\, children engage in exciting outdoor activities while participating in bespoke\, hands-on science-based STEM camps. These experiences help develop their personal confidence and self-esteem. \nThe program teaches children how to think\, rather than what to think\, equipping them for an ever-changing world. It aims to foster a lasting love of science in primary and elementary school\, encouraging students to pursue science in secondary or high school and beyond. More scientists are needed for the future! \nThrough engaging interactive experiments\, children learn complex scientific concepts in an accessible way. They explore long-chain polymerization and Non-Newtonian fluids through slime-making\, witness a Barbie Doll’s hair-raising experience on a Van de Graaff generator while learning about voltage and current\, and discover how electricity flows by lighting a light saber with a plasma ball. \nTo book your child’s place\, enquiry to junioreinsteinscarlowkilkenny@gmail.com
URL:https://www.woodforddolmenhotel.ie/event-calendar/science-summer-camp-junior-einstein-scientist
ATTACH;FMTTYPE=image/png:https://www.woodforddolmenhotel.ie/wp-content/uploads/2025/03/Junior-Einsteins-Scientists-Summer-Camp.png
END:VEVENT
BEGIN:VEVENT
DTSTART;TZID=UTC:20250814T210000
DTEND;TZID=UTC:20250814T210000
DTSTAMP:20260421T090109
CREATED:20250502T144323Z
LAST-MODIFIED:20250502T144323Z
UID:8158-1755205200-1755205200@www.woodforddolmenhotel.ie
SUMMARY:Social Dancing with Micheal Collins
DESCRIPTION:Enjoy Social Dancing on Thursday evenings at 9pm. Pick your dancing shoes to enjoy dancing with different attractions each week. For more information\, please contact the event organiser\, Tommy Doran at 868032412
URL:https://www.woodforddolmenhotel.ie/event-calendar/social-dancing-with-micheal-collins
END:VEVENT
END:VCALENDAR